BEGIN:VCALENDAR
VERSION:2.0
PRODID:-//Clube Círculo Militar de Belo Horizonte - ECPv5.5.0.1//NONSGML v1.0//EN
CALSCALE:GREGORIAN
METHOD:PUBLISH
X-WR-CALNAME:Clube Círculo Militar de Belo Horizonte
X-ORIGINAL-URL:https://www.circulomilitarbh.com.br
X-WR-CALDESC:Eventos para Clube Círculo Militar de Belo Horizonte
BEGIN:VTIMEZONE
TZID:America/Sao_Paulo
BEGIN:STANDARD
TZOFFSETFROM:-0200
TZOFFSETTO:-0300
TZNAME:-03
DTSTART:20170219T020000
END:STANDARD
BEGIN:DAYLIGHT
TZOFFSETFROM:-0300
TZOFFSETTO:-0200
TZNAME:-02
DTSTART:20171015T030000
END:DAYLIGHT
END:VTIMEZONE
BEGIN:VEVENT
DTSTART;VALUE=DATE:20170723
DTEND;VALUE=DATE:20170731
DTSTAMP:20260422T054128
CREATED:20170628T194742Z
LAST-MODIFIED:20170628T194742Z
UID:828-1500768000-1501459199@www.circulomilitarbh.com.br
SUMMARY:Acampamento Educativo Águia
DESCRIPTION:FINALIDADES BÁSICA DO ACAMPAMENTO ÁGUIA \n• Proporcionar aos jovens umas férias diferentes e divertidas e aos Pais a\nsegurança de viajarem ou descansarem\, sabendo que seus filhos encontram-se em um ambiente seguro\, educativo e que estão contribuindo para o fortalecimento moral e emocional da criança/jovem. \n• Incentivar\, motivar e criar nas crianças\, jovens e adolescentes\, atitudes e comportamentos que lhes proporcionem melhor qualidade de vida\, tanto na escola como no seu grupo social\, e no seio familiar. \n• Preparar os jovens para o futuro\, como cidadãos mais confiantes em suas possibilidades e potencialidades\, buscando também os valores de civismo e cidadania\, e também o trabalho em equipe. \nMais informações: www.acampamentoaguia.com.br
URL:https://www.circulomilitarbh.com.br/evento/acampamento-educativo-aguia-4/
LOCATION:Clube Campestre Juca Vieira\, Rua Bruno Brito\, 149 - Pedra Branca\, Caeté\, Minas Gerais\, 34800000\, Brasil
ATTACH;FMTTYPE=image/jpeg:https://www.circulomilitarbh.com.br/wp-content/uploads/2017/06/topo-evento-acampamento-aguia.jpg
END:VEVENT
END:VCALENDAR